BEGIN:VCALENDAR
VERSION:2.0
PRODID:-//SWOEN, c&#039;est quoi ? - ECPv6.15.11//NONSGML v1.0//EN
CALSCALE:GREGORIAN
METHOD:PUBLISH
X-WR-CALNAME:SWOEN, c&#039;est quoi ?
X-ORIGINAL-URL:https://swoen.be
X-WR-CALDESC:Évènements pour SWOEN, c&#039;est quoi ?
REFRESH-INTERVAL;VALUE=DURATION:PT1H
X-Robots-Tag:noindex
X-PUBLISHED-TTL:PT1H
BEGIN:VTIMEZONE
TZID:Europe/Paris
BEGIN:DAYLIGHT
TZOFFSETFROM:+0100
TZOFFSETTO:+0200
TZNAME:CEST
DTSTART:20250330T010000
END:DAYLIGHT
BEGIN:STANDARD
TZOFFSETFROM:+0200
TZOFFSETTO:+0100
TZNAME:CET
DTSTART:20251026T010000
END:STANDARD
BEGIN:DAYLIGHT
TZOFFSETFROM:+0100
TZOFFSETTO:+0200
TZNAME:CEST
DTSTART:20260329T010000
END:DAYLIGHT
BEGIN:STANDARD
TZOFFSETFROM:+0200
TZOFFSETTO:+0100
TZNAME:CET
DTSTART:20261025T010000
END:STANDARD
BEGIN:DAYLIGHT
TZOFFSETFROM:+0100
TZOFFSETTO:+0200
TZNAME:CEST
DTSTART:20270328T010000
END:DAYLIGHT
BEGIN:STANDARD
TZOFFSETFROM:+0200
TZOFFSETTO:+0100
TZNAME:CET
DTSTART:20271031T010000
END:STANDARD
END:VTIMEZONE
BEGIN:VEVENT
DTSTART;TZID=Europe/Paris:20260617T140000
DTEND;TZID=Europe/Paris:20260617T163000
DTSTAMP:20260421T140434
CREATED:20260215T090533Z
LAST-MODIFIED:20260215T090533Z
UID:3453-1781704800-1781713800@swoen.be
SUMMARY:Art thérapie à l'Oasis 🏥
DESCRIPTION:Un atelier destiné aux enfants qui résident au Centre d’Accueil pour demandeur•euses d’asile de la Croix Rouge de Genappe. Pour explorer les techniques\, créer et inventer dans un espace sécurisé et à objectif thérapeutique. \nUn moment hors de la routine quotidienne du Centre\, qui permet aux enfants d’être au cœur d’une activité destinée à leur bien-être et leur unicité. \nLa lecture de livres favorisent l’apprentissage et la maîtrise du français.
URL:https://swoen.be/event/art-therapie-a-loasis-%f0%9f%8f%a5-4/
LOCATION:L’Oasis\, Genappe\, Brabant Wallon\, 1470\, Belgium
CATEGORIES:Atelier collectif enfants,L'Oasis,privé
END:VEVENT
END:VCALENDAR